BEGIN:VCALENDAR
VERSION:2.0
PRODID:-//wp-events-plugin.com//7.1//EN
TZID:America/Chicago
X-WR-TIMEZONE:America/Chicago
BEGIN:VEVENT
UID:1-4592@ipapolkas.com
DTSTART;TZID=America/Chicago;VALUE=DATE:20240510
DTEND;TZID=America/Chicago;VALUE=DATE:20240513
DTSTAMP:20240319T122217Z
URL:https://www.ipapolkas.com/events/wisconsin-dells-polka-fest-3/
SUMMARY:Wisconsin Dells Polka Fest
DESCRIPTION:The 12th Annual "Wisconsin Dells Polka Fest &amp\; Expo" take
 s place May 10\, 11\, &amp\; 12\, 2024\, at Chula Vista Resort\, 2501 Rive
 r Road\, Wisconsin Dells\, Wisconsin 53965.\n\n9 great performers are sche
 duled for this weekend of FUN!\n\nMollie B with The Music Connection - 
 "Mother's Day with Mollie B!" from Wisconsin (Sunday)\n\nThe Beat from 
 New Jersey (Friday &amp\; Saturday)  \n\nFrank Liszka &amp\; Blue Magic
  from Ohio (Saturday &amp\; Sunday)  \n\nLive Wire from Wisconsin (Frid
 ay)\n\nTwin City Sounds from Minnesota (Friday)\n\nThe I.P.A. Tribute Ban
 d from Illinois (Saturday)\n\nLive it Up! from Minnesota (Saturday)\n\nC
 ynor Classics from Wisconsin (Saturday)\n\n* Due to circumstances beyon
 d our control\, Polka Family Band originally scheduled\, will not be abl
 e to perform this year.\n\nSaturday Morning Monster Jam &amp\; more with
  Kevin Altenberg and special guests???\n\nFree polka dance lesson will b
 e offered in the ballroom on Saturday at 5:00pm!\n\nCatholic Mass - Time a
 nd Location: TBA\n\nHours: Friday: 6pm - 1am\, Saturday: Noon - 1am\, Sun
 day: Noon - 5pm.\n\nHosted by: Patrick Henry Cukierka\n\nAdult Admission: 
 $25 Friday\, Saturday\, $30 and Sunday\, $20\, Advance Weekend Pass: $60\,
  Weekend Pass with 2 Buffet Breakfasts: $93\n\nKids under 16- Free Festiva
 l Admission with paid adult guardian!\n\nContact Phone: 773-889-6811 or e
 -mail polkadj@sbcglobal.net with any questions.\n\nThe website: http://ww
 w.dellspolkafest.com/\n\n\n\nWeekend Hotel Package:  Only $172 per pers
 on double occupancy + tax and resort Fee.  CALL 1-877-624-0685 group cod
 e: "J-38552 Polka Fest 2024".  Includes: 2 Night Stay in a beautiful Tow
 er Room - Junior Suite upgrades while they last!  Breakfast Buffet\, grat
 uity included\, Saturday &amp\; Sunday in the Market Fresh Buffet.\n\nPolk
 a Fest Tickets are not included in package.\n\nSingle occupancy is availab
 le\, Call for pricing.  Children aged 3 - 15\, only $123/day or $24 for
  the weekend package.\n\nUpgrades available for additional $$.\n\nRoom Onl
 y prices starting at $139 per night\, plus tax and resort fees. Condomin
 iums also available.  Call Chula Vista Resort direct at 1-877-624-0685 a
 nd give them promo code: "J-38552 Polka Fest 2024" for our special discoun
 t rates!  Discount code is not available for online reservations.  You m
 ust call.\n\nStay Thursday or Sunday for only $69 per night!\n\nAll price
 s are plus tax and resort fee.  Rates guaranteed until 4/15/2024.  Afte
 r 04/15/2024\, room prices are subject to change.\n\nWaterpark pass avail
 able for only $10/person per day from Patrick Henry.\n\nStaying "Off Prope
 rty" for the weekend?  A weekend package including two breakfast buffet v
 ouchers and a weekend festival pass is available for $99 per person\, incl
 uding tax.  Daily Admission and Breakfast vouchers are also available at 
 19.50/day for those over 16 and $12 for those aged 3-15.  These choices w
 ill be available at the ticket table.  No fees if purchasing with cash a
 t the ticket table.  Pick-up your breakfast vouchers at the ticket table
  along with your wristbands\n\nBus groups are welcome. Come on out and enj
 oy a great weekend of Polka FUN!\n\nThe Wisconsin Dells Polka Fest &amp\; 
 Expo is produced by Patrick Henry Presents for Tiger Entertainment.
ATTACH;FMTTYPE=image/jpeg:https://www.ipapolkas.com/wp-content/uploads/202
 4/03/Phat-Logo.jpg
CATEGORIES:Dances,Festivals,Polka Weekend
END:VEVENT
BEGIN:VTIMEZONE
TZID:America/Chicago
X-LIC-LOCATION:America/Chicago
BEGIN:DAYLIGHT
DTSTART:20240310T030000
TZOFFSETFROM:-0600
TZOFFSETTO:-0500
TZNAME:CDT
END:DAYLIGHT
END:VTIMEZONE
END:VCALENDAR