BEGIN:VCALENDAR
VERSION:2.0
PRODID:-//wp-events-plugin.com//7.1//EN
TZID:America/Chicago
X-WR-TIMEZONE:America/Chicago
BEGIN:VEVENT
UID:1-3686@ipapolkas.com
DTSTART;TZID=America/New_York:20221113T130000
DTEND;TZID=America/New_York:20221113T170000
DTSTAMP:20211217T193314Z
URL:https://www.ipapolkas.com/events/veterans-dinner-dance-generial-k-pula
 ski-citizens-club/
SUMMARY:Veteran's Dinner Dance @ Generial K. Pulaski Citizens Club
DESCRIPTION:Veteran's Dinner Dance @ Generial K. Pulaski Citizens Club\nDat
 e: Sunday Nov. 13\, 2022\nDinner: 1pm\nMusic by: Northern Sounds\nBring yo
 ur own Drinks (BYOB) \n*Call Carolyn for Dinner reservations at (352)-873
 -0010\nNote: Reservations for dinner must be called in by Nov. 8th  2022 
 \nOpen to the public\, Everyone is Invited to come!!
LOCATION:Generial K. Pulaski Citizens Club\, 6221 S.E. 113th street\, Belle
 view\, Florida\, 34420\, South\, United States
GEO:29.058034;-82.047503
X-APPLE-STRUCTURED-LOCATION;VALUE=URI;X-ADDRESS=6221 S.E. 113th street\, Be
 lleview\, Florida\, 34420\, South\, United States;X-APPLE-RADIUS=100;X-TIT
 LE=Generial K. Pulaski Citizens Club:geo:29.058034,-82.047503
END:VEVENT
BEGIN:VTIMEZONE
TZID:America/New_York
X-LIC-LOCATION:America/New_York
BEGIN:STANDARD
DTSTART:20221106T010000
TZOFFSETFROM:-0400
TZOFFSETTO:-0500
TZNAME:EST
END:STANDARD
END:VTIMEZONE
END:VCALENDAR