BEGIN:VCALENDAR
VERSION:2.0
PRODID:-//wp-events-plugin.com//7.1//EN
TZID:America/Chicago
X-WR-TIMEZONE:America/Chicago
BEGIN:VEVENT
UID:1-4585@ipapolkas.com
DTSTART;TZID=America/New_York;VALUE=DATE:20240331
DTEND;TZID=America/New_York;VALUE=DATE:20240401
DTSTAMP:20240307T200622Z
URL:https://www.ipapolkas.com/events/vals-35th-dyngus-day-celebration/
SUMMARY:Val's 35th Dyngus Day Celebration
DESCRIPTION:Val's 35th Dyngus Day Celebration\n\n&nbsp\;\n\nMonday April\, 
 2024 - Music Starts at noon\n\nMusic by John Stevens and Doubleshot\, Live
  Wire\, Dyngus Day All Star Band and Special Appearance by Doctor John Val
 by\n\n&nbsp\;\n\nSee flyer for more details.
ATTACH;FMTTYPE=image/jpeg:https://www.ipapolkas.com/wp-content/uploads/202
 4/03/Dyngus-Day-Buffalo-M-Hotel.jpg
CATEGORIES:Dances
LOCATION:Millennium Hotel - Buffalo\, NY\, 2040 Walden Avenue \, Buffalo\, 
 NY\, 14225\, Northeast\, United States
GEO:42.9095654;-78.7604465
X-APPLE-STRUCTURED-LOCATION;VALUE=URI;X-ADDRESS=2040 Walden Avenue \, Buffa
 lo\, NY\, 14225\, Northeast\, United States;X-APPLE-RADIUS=100;X-TITLE=Mil
 lennium Hotel - Buffalo\, NY:geo:42.9095654,-78.7604465
END:VEVENT
BEGIN:VTIMEZONE
TZID:America/New_York
X-LIC-LOCATION:America/New_York
BEGIN:DAYLIGHT
DTSTART:20240310T030000
TZOFFSETFROM:-0500
TZOFFSETTO:-0400
TZNAME:EDT
END:DAYLIGHT
END:VTIMEZONE
END:VCALENDAR