BEGIN:VCALENDAR
VERSION:2.0
PRODID:-//wp-events-plugin.com//7.1//EN
TZID:America/Chicago
X-WR-TIMEZONE:America/Chicago
BEGIN:VEVENT
UID:1-4584@ipapolkas.com
DTSTART;TZID=America/New_York:20240331T180000
DTEND;TZID=America/New_York:20240331T234500
DTSTAMP:20240307T200210Z
URL:https://www.ipapolkas.com/events/vals-32nd-pre-dyngus-day-party/
SUMMARY:Val\\'s 32nd Pre Dyngus Day Party
DESCRIPTION:Val's Dyngus Weekend\n\nSunday March 31\, 2024 - 6 pm to Midnig
 ht - $10 per person\n\n&nbsp\;\n\nSee Flyer for more details.
CATEGORIES:Dances
END:VEVENT
BEGIN:VTIMEZONE
TZID:America/New_York
X-LIC-LOCATION:America/New_York
BEGIN:DAYLIGHT
DTSTART:20240310T030000
TZOFFSETFROM:-0500
TZOFFSETTO:-0400
TZNAME:EDT
END:DAYLIGHT
END:VTIMEZONE
END:VCALENDAR