BEGIN:VCALENDAR
VERSION:2.0
PRODID:-//wp-events-plugin.com//7.1//EN
TZID:America/Chicago
X-WR-TIMEZONE:America/Chicago
BEGIN:VEVENT
UID:1-4574@ipapolkas.com
DTSTART;TZID=America/Chicago:20240309T210000
DTEND;TZID=America/Chicago:20240310T003000
DTSTAMP:20240319T122152Z
URL:https://www.ipapolkas.com/events/the-polkaholics-return-to-the-polish-
 broadway-in-chicago/
SUMMARY:The Polkaholics return to the Polish Broadway in Chicago!
DESCRIPTION:The Polkaholics will make a return to Chicago's old Polish Broa
 dway on Saturday March 9\, 2024\, when they play a show at Phyllis' Musica
 l Inn.  Located at the corner of Division &amp\; Wood and across the stre
 et from the historic\, but long-gone\, Lucky Stop Inn\, Phyllis' recently 
 celebrated their 70 year anniversary!  Many polka bands once played at Ph
 yllis' and on this strip in Chicago\, and The Polkaholics aim to bring bac
 k some of the magic of the polka heyday at this show.  The Polkaholics pl
 ayed their first show in November 1997 at Phyllis'\, so it will be a speci
 al "homecoming" show for the band.  The always-rocking band Letterbomb wi
 ll open the show at 9pm\, and The Polkaholics will play two sets of people
 -pleasing polkas from 10pm til the wee hours.  So\, c'mon out for a night
  that is guaranteed to be fun\, Fun\, FUN!!
ATTACH;FMTTYPE=image/jpeg:https://www.ipapolkas.com/wp-content/uploads/202
 4/02/PMI_03_2024.jpg
CATEGORIES:Clubs
LOCATION:Phyllis' Musical Inn\, 1800 W. Division Street\, Chicago\, Illinoi
 s\, United States
GEO:41.9035097;-87.67253949999997
X-APPLE-STRUCTURED-LOCATION;VALUE=URI;X-ADDRESS=1800 W. Division Street\, C
 hicago\, Illinois\, United States;X-APPLE-RADIUS=100;X-TITLE=Phyllis' Musi
 cal Inn:geo:41.9035097,-87.67253949999997
END:VEVENT
BEGIN:VTIMEZONE
TZID:America/Chicago
X-LIC-LOCATION:America/Chicago
BEGIN:STANDARD
DTSTART:20231105T010000
TZOFFSETFROM:-0500
TZOFFSETTO:-0600
TZNAME:CST
END:STANDARD
END:VTIMEZONE
END:VCALENDAR