BEGIN:VCALENDAR
VERSION:2.0
PRODID:-//wp-events-plugin.com//7.1//EN
TZID:America/Chicago
X-WR-TIMEZONE:America/Chicago
BEGIN:VEVENT
UID:1-3683@ipapolkas.com
DTSTART;TZID=America/New_York:20220213T130000
DTEND;TZID=America/New_York:20220213T170000
DTSTAMP:20211217T193313Z
URL:https://www.ipapolkas.com/events/sweathearts-dinner-dance-generial-k-p
 ulaski-citizens-club/
SUMMARY:Sweatheart's Dinner Dance @ Generial K Pulaski Citizen's Club
DESCRIPTION:Sweat Heart's Dinner Dance @ Generial K. Pulaski Citizens Club\
 nDate: Sunday Feb. 13\nDinner: 1pm\nMusic by: Melotones\nBring your own Dr
 inks (BYOB) \n*Call Carolyn for Dinner reservations at (352)-873-0010\nNo
 te: Reservations for dinner must be called in by Feb. 9th 2022 \nOpen to t
 he public\, Everyone is Invited to come!!
CATEGORIES:Clubs
LOCATION:Generial K. Pulaski Citizens Club\, 6221 S.E. 113th street\, Belle
 view\, Florida\, 34420\, South\, United States
GEO:29.058034;-82.047503
X-APPLE-STRUCTURED-LOCATION;VALUE=URI;X-ADDRESS=6221 S.E. 113th street\, Be
 lleview\, Florida\, 34420\, South\, United States;X-APPLE-RADIUS=100;X-TIT
 LE=Generial K. Pulaski Citizens Club:geo:29.058034,-82.047503
END:VEVENT
BEGIN:VTIMEZONE
TZID:America/New_York
X-LIC-LOCATION:America/New_York
BEGIN:STANDARD
DTSTART:20211107T010000
TZOFFSETFROM:-0400
TZOFFSETTO:-0500
TZNAME:EST
END:STANDARD
END:VTIMEZONE
END:VCALENDAR