BEGIN:VCALENDAR
VERSION:2.0
PRODID:-//wp-events-plugin.com//7.1//EN
TZID:America/Chicago
X-WR-TIMEZONE:America/Chicago
BEGIN:VEVENT
UID:1-4651@ipapolkas.com
DTSTART;TZID=America/Detroit:20240627T180000
DTEND;TZID=America/Detroit:20240630T220000
DTSTAMP:20240702T115454Z
URL:https://www.ipapolkas.com/events/st-stans-polish-fest/
SUMMARY:St. Stan's Polish Fest
DESCRIPTION:The lineup for The St. Stan's Polish Fest\, in Bay City\, MI.\,
  has been announced.  This year's fest is happening from June 27-30th\, 20
 24. You can find all the info at St. Stan's Polish Festival on Facebook.  
   Here is the band lineup: \n June 27th - The Steve Drzewicki band rotatin
 g with The New Generation Band from WI. From 6pm-12am\n June 28th - The Dy
 naversasticktoneaires roating with The Sinclairs Band. From 6pm-1230am.   
                                June 29th - The Dynaversasticktoneaires fro
 m 12-4pm. Then from 4pm-1230am is The Dynabrass rotating  with Tweed &amp\
 ; Dixie and The Whiskey Six.                                              
               June 30th - The Dynabrass roating with The Steve Drzewicki B
 and from 1pm-10pm.
CATEGORIES:Festivals
LOCATION:St stans parish center\, 1503 KOCZIUSKO AVE\, Bay city\, Michigan\
 , 48706\, United States
GEO:43.5806859;-83.88192129999999
X-APPLE-STRUCTURED-LOCATION;VALUE=URI;X-ADDRESS=1503 KOCZIUSKO AVE\, Bay ci
 ty\, Michigan\, 48706\, United States;X-APPLE-RADIUS=100;X-TITLE=St stans 
 parish center:geo:43.5806859,-83.88192129999999
END:VEVENT
BEGIN:VTIMEZONE
TZID:America/Detroit
X-LIC-LOCATION:America/Detroit
BEGIN:DAYLIGHT
DTSTART:20240310T030000
TZOFFSETFROM:-0500
TZOFFSETTO:-0400
TZNAME:EDT
END:DAYLIGHT
END:VTIMEZONE
END:VCALENDAR