BEGIN:VCALENDAR
VERSION:2.0
PRODID:-//wp-events-plugin.com//7.1//EN
TZID:America/Chicago
X-WR-TIMEZONE:America/Chicago
BEGIN:VEVENT
UID:1-4568@ipapolkas.com
DTSTART;TZID=America/Phoenix:20240316T170000
DTEND;TZID=America/Phoenix:20240317T210000
DTSTAMP:20240228T125831Z
URL:https://www.ipapolkas.com/events/st-patricks-day-polka-party/
SUMMARY:St. Patrick's day polka party
DESCRIPTION:St. Patrick's Day polka party at the Pulaski club March 16 and 
 17\, Friday meet &amp\; greet FREE admission. with the buffalo concertina 
 all stars
CATEGORIES:Clubs,Dances,Polka Weekend
LOCATION:Pulaski Club Arizona\, 4331 E McDowell Rd\, Phoenix\, AZ\, 85008\,
  Southwest\, United States
GEO:33.4652897;-111.9881244
X-APPLE-STRUCTURED-LOCATION;VALUE=URI;X-ADDRESS=4331 E McDowell Rd\, Phoeni
 x\, AZ\, 85008\, Southwest\, United States;X-APPLE-RADIUS=100;X-TITLE=Pula
 ski Club Arizona:geo:33.4652897,-111.9881244
END:VEVENT
BEGIN:VTIMEZONE
TZID:America/Phoenix
X-LIC-LOCATION:America/Phoenix
BEGIN:STANDARD
DTSTART:20230317T170000
TZOFFSETFROM:-0700
TZOFFSETTO:-0700
TZNAME:MST
END:STANDARD
END:VTIMEZONE
END:VCALENDAR