BEGIN:VCALENDAR
VERSION:2.0
PRODID:-//wp-events-plugin.com//7.1//EN
TZID:America/Chicago
X-WR-TIMEZONE:America/Chicago
BEGIN:VEVENT
UID:1-4623@ipapolkas.com
DTSTART;TZID=America/Chicago:20240616T140000
DTEND;TZID=America/Chicago:20240616T160000
DTSTAMP:20240514T093910Z
URL:https://www.ipapolkas.com/events/st-daniels-festival/
SUMMARY:St Daniels Festival
DESCRIPTION:Come out on Father’s Day for polka day at the church festival
 \n\n&nbsp\;\n\npolka generations perform 2-4pm\n\nfree admission \, food a
 nd nice ice cold drinks for purchase
CATEGORIES:Church Event
LOCATION:St Daniels church\, 5300 s Natoma \, Chicago \, Illinois \, 60638\
 , United States
GEO:41.794633;-87.787142
X-APPLE-STRUCTURED-LOCATION;VALUE=URI;X-ADDRESS=5300 s Natoma \, Chicago \,
  Illinois \, 60638\, United States;X-APPLE-RADIUS=100;X-TITLE=St Daniels c
 hurch:geo:41.794633,-87.787142
END:VEVENT
BEGIN:VTIMEZONE
TZID:America/Chicago
X-LIC-LOCATION:America/Chicago
BEGIN:DAYLIGHT
DTSTART:20240310T030000
TZOFFSETFROM:-0600
TZOFFSETTO:-0500
TZNAME:CDT
END:DAYLIGHT
END:VTIMEZONE
END:VCALENDAR