BEGIN:VCALENDAR
VERSION:2.0
PRODID:-//wp-events-plugin.com//7.1//EN
TZID:America/Chicago
X-WR-TIMEZONE:America/Chicago
BEGIN:VEVENT
UID:1-4609@ipapolkas.com
DTSTART;TZID=America/Detroit:20240614T000000
DTEND;TZID=America/Detroit:20240615T000000
DTSTAMP:20240426T110548Z
URL:https://www.ipapolkas.com/events/simply-slavic-festival/
SUMMARY:Simply Slavic Festival
DESCRIPTION:Simply Slavic Festival: created specifically to celebrate Young
 stown’s Slavic community ~ Friday\, June 14\, 2024 from 5pm to 11pm and 
 Saturday\, June 15\, 2024 from 12pm to Midnight in Downtown Youngstown.  
 13 Slavic countries will be represented.  Event includes live music\, fol
 k dance performances\, homemade food\, children’s learning areas\, educa
 tional exhibits\, and ethnic vendors. A full weekend of entertainment and 
 education is planned. Admission is $5.00\, Children 12 years and younger w
 ill be admitted free  both days.  Jody Maddie's UpTown Sound Sat. June 
 15th 7 pm to 8 pm  &amp\;  9 pm to 10 pm.  20 Federal Place  Youngst
 own\, OH 44503.  https://www.simplyslavic.org/
CATEGORIES:Festivals
LOCATION:Downtown Youngstown\, 20 Federal Place\, Youngstown\, Ohio\, 44503
 \, United States
GEO:41.100903;-80.649857
X-APPLE-STRUCTURED-LOCATION;VALUE=URI;X-ADDRESS=20 Federal Place\, Youngsto
 wn\, Ohio\, 44503\, United States;X-APPLE-RADIUS=100;X-TITLE=Downtown Youn
 gstown:geo:41.100903,-80.649857
END:VEVENT
BEGIN:VTIMEZONE
TZID:America/Detroit
X-LIC-LOCATION:America/Detroit
BEGIN:DAYLIGHT
DTSTART:20240310T030000
TZOFFSETFROM:-0500
TZOFFSETTO:-0400
TZNAME:EDT
END:DAYLIGHT
END:VTIMEZONE
END:VCALENDAR