BEGIN:VCALENDAR
VERSION:2.0
PRODID:-//wp-events-plugin.com//7.1//EN
TZID:America/Chicago
X-WR-TIMEZONE:America/Chicago
BEGIN:VEVENT
UID:1-4586@ipapolkas.com
DTSTART;TZID=America/New_York:20240505T140000
DTEND;TZID=America/New_York:20240505T180000
DTSTAMP:20240319T122212Z
URL:https://www.ipapolkas.com/events/punxsytawney-ground-hog-polka-dance-2
 /
SUMMARY:punxsytawney ground hog polka dance
DESCRIPTION:Inviting all to our first polka  dance of 2024  Come visit do
 wntown Punxsutawney\n\nBand plays a variety of music for dancing to waltz\
 , polka \, cha\,cha swing obetik . open to request for your favorite song\
 n\nAdmission $10.00     No membership required      Food and bever
 ages available for purchase.\n\nGreat dance floor  Off street parking lot
  .\n\nAdditional information call Monica at 814  592 1093  or Betts at 8
 14 371-3043
CATEGORIES:Dances
LOCATION:Punxsutawney Eagles\, 238 E Mahoning St. \, Punxsutawney\, Pennsyl
 vania \, 15767\, United States
GEO:40.944548;-78.968992
X-APPLE-STRUCTURED-LOCATION;VALUE=URI;X-ADDRESS=238 E Mahoning St. \, Punxs
 utawney\, Pennsylvania \, 15767\, United States;X-APPLE-RADIUS=100;X-TITLE
 =Punxsutawney Eagles:geo:40.944548,-78.968992
END:VEVENT
BEGIN:VTIMEZONE
TZID:America/New_York
X-LIC-LOCATION:America/New_York
BEGIN:DAYLIGHT
DTSTART:20240310T030000
TZOFFSETFROM:-0500
TZOFFSETTO:-0400
TZNAME:EDT
END:DAYLIGHT
END:VTIMEZONE
END:VCALENDAR