BEGIN:VCALENDAR
VERSION:2.0
PRODID:-//wp-events-plugin.com//7.1//EN
TZID:America/Chicago
X-WR-TIMEZONE:America/Chicago
BEGIN:VEVENT
UID:1-4591@ipapolkas.com
DTSTART;TZID=America/New_York:20240510T180000
DTEND;TZID=America/New_York:20240510T220000
DTSTAMP:20240319T122222Z
URL:https://www.ipapolkas.com/events/polka-hall-of-fame-mothers-day-dance/
SUMMARY:Polka Hall of Fame Mother's Day dance
DESCRIPTION:It’s Ladies Night at the Polka Hall of Fame Mother’s Day D
 ance\n\nFriday\, May 10\n\nTreat the ladies in your life to a lovely eveni
 ng of music and dancing at the Mother’s Day Dance\, hosted by the Nation
 al Cleveland-Style Polka Hall of Fame\, Friday\, May 10\, 2024. Join Frank
  Stanger and his orchestra at the American Croatian Lodge for a charmed ev
 ening of jolly polkas and suave waltzes.\n\nSwing your significant other o
 n the dance floor from 6:00 to 10:00. The Stanger sound features Frank’s
  accordion stylings and extensive repertoire of ballroom favorites. Dinner
 s\, sandwiches and nationality treats to order\, catered by Dubrovnik Gard
 ens. Your polka hostess\, Sharon Staiduhar\, helps make it an extra-specia
 l time.\n\nThe National Cleveland-Style Polka Hall of Fame has preserved a
 nd promoted America’s good-time music since 1987. The museum features mu
 sic exhibits with celebrity accordions and the stories behind them.\n\nThe
  American Croatian Lodge is at 34900 Lake Shore Boulevard in Eastlake\, Oh
 io\, just west of Route 91 (SOM Center Road). Save $3 with an advance tick
 et\, $12 through the Polka Hall of Fame\, 605 East 222nd Street\, Euclid\,
  Ohio\, open Wednesday and Saturday\, 9:00 to 2:00. $15 dollars day of the
  event. 18 and under free. (216) 261-FAME. Polkashop@aol.com. Need a tabl
 e? Reserve at (440) 679-1420.\n\n&nbsp\;
ATTACH;FMTTYPE=image/jpeg:https://www.ipapolkas.com/wp-content/uploads/202
 4/03/Stanger-Frank.jpg
CATEGORIES:Dances
LOCATION:American Croatian Lodge\, 34900 Lake Shore Boulevard\, Eastlake\, 
 OH\, 44095\, United States
GEO:41.662371;-81.440126
X-APPLE-STRUCTURED-LOCATION;VALUE=URI;X-ADDRESS=34900 Lake Shore Boulevard\
 , Eastlake\, OH\, 44095\, United States;X-APPLE-RADIUS=100;X-TITLE=America
 n Croatian Lodge:geo:41.662371,-81.440126
END:VEVENT
BEGIN:VTIMEZONE
TZID:America/New_York
X-LIC-LOCATION:America/New_York
BEGIN:DAYLIGHT
DTSTART:20240310T030000
TZOFFSETFROM:-0500
TZOFFSETTO:-0400
TZNAME:EDT
END:DAYLIGHT
END:VTIMEZONE
END:VCALENDAR