BEGIN:VCALENDAR
VERSION:2.0
PRODID:-//wp-events-plugin.com//7.1//EN
TZID:America/Chicago
X-WR-TIMEZONE:America/Chicago
BEGIN:VEVENT
UID:1-4572@ipapolkas.com
DTSTART;TZID=America/Chicago;VALUE=DATE:20240703
DTEND;TZID=America/Chicago;VALUE=DATE:20240707
DTSTAMP:20240228T125849Z
URL:https://www.ipapolkas.com/events/polka-fireworks-festival-at-seven-spr
 ings/
SUMMARY:POLKA FIREWORKS FESTIVAL at Seven Springs
DESCRIPTION:FOR POLKA FIREWORKS\nINFORMATION CONTACT:\nTish Blazonczyk—Be
 l-Aire Enterprises\nP.O. Box 520 • Palos Park\, IL 60464\nPhone (708) 59
 4-5182\nFax (708) 448-5494\nEmail: BelAire7208@aol.com\n\nwww.polkafirewor
 ks.com
ATTACH;FMTTYPE=image/jpeg:https://www.ipapolkas.com/wp-content/uploads/202
 4/02/2024-Seven-Springs-Flyer-Final_Page_1-scaled.jpg
CATEGORIES:Festivals
LOCATION:Seven Springs Mountain Resort\, 777 Waterwheel Dr\, Seven Springs\
 , PA\, 15622\, United States
GEO:40.0219309;-79.29023999999998
X-APPLE-STRUCTURED-LOCATION;VALUE=URI;X-ADDRESS=777 Waterwheel Dr\, Seven S
 prings\, PA\, 15622\, United States;X-APPLE-RADIUS=100;X-TITLE=Seven Sprin
 gs Mountain Resort:geo:40.0219309,-79.29023999999998
END:VEVENT
BEGIN:VTIMEZONE
TZID:America/Chicago
X-LIC-LOCATION:America/Chicago
BEGIN:DAYLIGHT
DTSTART:20240310T030000
TZOFFSETFROM:-0600
TZOFFSETTO:-0500
TZNAME:CDT
END:DAYLIGHT
END:VTIMEZONE
END:VCALENDAR