BEGIN:VCALENDAR
VERSION:2.0
PRODID:-//wp-events-plugin.com//7.1//EN
TZID:America/Chicago
X-WR-TIMEZONE:America/Chicago
BEGIN:VEVENT
UID:1-4629@ipapolkas.com
DTSTART;TZID=America/New_York:20240526T140000
DTEND;TZID=America/New_York:20240526T180000
DTSTAMP:20240514T093854Z
URL:https://www.ipapolkas.com/events/polka-dance-sponsored-by-the-punxsuta
 wney-ground-hope-polka-club/
SUMMARY:polka dance sponsored by the Punxsutawney Ground hope polka club
DESCRIPTION:invitation to all who love music   come to downtown Punxsutaw
 ney for an afternoon of dancing \n\nOpen to the public no membership requi
 red\n\nAdmission only $10.00 food and beverages available for purchase\n\n
 Support live bands that play a variety of music styles\n\nOff street parki
 ng lot \, air conditioned facility\, great dance floor\n\nfurther informat
 ion and directions\n\nphone Monicaat 814-592-1093\n\nemail PolkaMonica@gma
 il.com\n\nwebsite www.PunxyPolkaClub.com\n\nfacebook www.facebook.com/moni
 ca.pierce.589
CATEGORIES:Dances
LOCATION:Punxsutawney Eagles Club\, 238 Mahoney St\, Punxsutawney\, PA\, 15
 767\, United States
GEO:40.943358;-78.973703
X-APPLE-STRUCTURED-LOCATION;VALUE=URI;X-ADDRESS=238 Mahoney St\, Punxsutawn
 ey\, PA\, 15767\, United States;X-APPLE-RADIUS=100;X-TITLE=Punxsutawney Ea
 gles Club:geo:40.943358,-78.973703
END:VEVENT
BEGIN:VTIMEZONE
TZID:America/New_York
X-LIC-LOCATION:America/New_York
BEGIN:DAYLIGHT
DTSTART:20240310T030000
TZOFFSETFROM:-0500
TZOFFSETTO:-0400
TZNAME:EDT
END:DAYLIGHT
END:VTIMEZONE
END:VCALENDAR