BEGIN:VCALENDAR
VERSION:2.0
PRODID:-//wp-events-plugin.com//7.1//EN
TZID:America/Chicago
X-WR-TIMEZONE:America/Chicago
BEGIN:VEVENT
UID:1-4686@ipapolkas.com
DTSTART;TZID=America/New_York:20240811T140000
DTEND;TZID=America/New_York:20240811T180000
DTSTAMP:20240721T191104Z
URL:https://www.ipapolkas.com/events/polka-dance-sponsored-by-the-punxsuta
 wney-ground-hope-polka-club-5/
SUMMARY:polka dance sponsored by the Punxsutawney Ground hope polka club
DESCRIPTION:welcome to the world of good live band music \, dancing and mee
 ting new friends\n\nadmission is only $10.00  all are welcomed. Food and 
 beverages available for purchase.\n\nBand plays a variety of music includi
 ng waltz\, polka \, chacha \, slow /night club swing and more\n\nRequest a
  song\n\nparking lot available\, air conditioned facility\n\nadditional in
 formation call Monica at814-592-1093\n\nemail PolkaMonica@gmail.com\n\nweb
 site:www.PunxyPolkaClub.com\n\nfacebookhttps://www.facebook.com/monica.pie
 rce\,589\n\n&nbsp\;\n\n&nbsp\;\n\n&nbsp\;\n\n&nbsp\;\n\n&nbsp\;
CATEGORIES:Dances
LOCATION:Rossiter American Legion\, 800 Central Street\, Rossiter \, PA\, 1
 5772\, United States
GEO:40.890942;-78.927779
X-APPLE-STRUCTURED-LOCATION;VALUE=URI;X-ADDRESS=800 Central Street\, Rossit
 er \, PA\, 15772\, United States;X-APPLE-RADIUS=100;X-TITLE=Rossiter Ameri
 can Legion:geo:40.890942,-78.927779
END:VEVENT
BEGIN:VTIMEZONE
TZID:America/New_York
X-LIC-LOCATION:America/New_York
BEGIN:DAYLIGHT
DTSTART:20240310T030000
TZOFFSETFROM:-0500
TZOFFSETTO:-0400
TZNAME:EDT
END:DAYLIGHT
END:VTIMEZONE
END:VCALENDAR