BEGIN:VCALENDAR
VERSION:2.0
PRODID:-//wp-events-plugin.com//7.1//EN
TZID:America/Chicago
X-WR-TIMEZONE:America/Chicago
BEGIN:VEVENT
UID:1-4680@ipapolkas.com
DTSTART;TZID=America/New_York:20240728T140000
DTEND;TZID=America/New_York:20240728T180000
DTSTAMP:20240721T191057Z
URL:https://www.ipapolkas.com/events/polka-dance-sponsored-by-the-punxsuta
 wney-ground-hope-polka-club-4/
SUMMARY:polka dance sponsored by the Punxsutawney Ground hope polka club
DESCRIPTION:come and listen to the music and dance.  no membership require
 d.  We love to meet new people\n\ncost only $10.00  food and beverages a
 vailable for purchase\n\ngreat dance floor . Band plays a variety of music
  styles\n\nair conditioned place\, off street parking\n\n&nbsp\;
CATEGORIES:Dances
LOCATION:Punxsutawney Eagles Club\, 238 Mahoney St\, Punxsutawney\, PA\, 15
 767\, United States
GEO:40.943358;-78.973703
X-APPLE-STRUCTURED-LOCATION;VALUE=URI;X-ADDRESS=238 Mahoney St\, Punxsutawn
 ey\, PA\, 15767\, United States;X-APPLE-RADIUS=100;X-TITLE=Punxsutawney Ea
 gles Club:geo:40.943358,-78.973703
END:VEVENT
BEGIN:VTIMEZONE
TZID:America/New_York
X-LIC-LOCATION:America/New_York
BEGIN:DAYLIGHT
DTSTART:20240310T030000
TZOFFSETFROM:-0500
TZOFFSETTO:-0400
TZNAME:EDT
END:DAYLIGHT
END:VTIMEZONE
END:VCALENDAR