BEGIN:VCALENDAR
VERSION:2.0
PRODID:-//wp-events-plugin.com//7.1//EN
TZID:America/Chicago
X-WR-TIMEZONE:America/Chicago
BEGIN:VEVENT
UID:1-4652@ipapolkas.com
DTSTART;TZID=America/New_York:20240623T140000
DTEND;TZID=America/New_York:20240623T180000
DTSTAMP:20240702T115447Z
URL:https://www.ipapolkas.com/events/polka-dance-sponsored-by-the-punxsuta
 wney-ground-hope-polka-club-3/
SUMMARY:polka dance sponsored by the Punxsutawney Ground hope polka club
DESCRIPTION:Admission only $10.00  everyone invited  no membership requir
 ed\n\nHope to see everyone enjoying the music of a live band\n\nFood and b
 everages available for purchase.\n\nParking lot on the premise. great danc
 e floor \, air conditioned facility\n\nplease join us and spread some fun 
 in our lives\n\nany questions call Monica at 814-592-1093\n\nemail\;-polka
 monica@gmail.com\n\nwww.punxypolkacllub.com\n\nFacebook www.facebook.com/m
 onicapierce587\n\n&nbsp\;\n\n&nbsp\;\n\n&nbsp\;\n\n&nbsp\;
CATEGORIES:Dances
LOCATION:Punxsutawney Eagles Club\, 238 Mahoney St\, Punxsutawney\, PA\, 15
 767\, United States
GEO:40.943358;-78.973703
X-APPLE-STRUCTURED-LOCATION;VALUE=URI;X-ADDRESS=238 Mahoney St\, Punxsutawn
 ey\, PA\, 15767\, United States;X-APPLE-RADIUS=100;X-TITLE=Punxsutawney Ea
 gles Club:geo:40.943358,-78.973703
END:VEVENT
BEGIN:VTIMEZONE
TZID:America/New_York
X-LIC-LOCATION:America/New_York
BEGIN:DAYLIGHT
DTSTART:20240310T030000
TZOFFSETFROM:-0500
TZOFFSETTO:-0400
TZNAME:EDT
END:DAYLIGHT
END:VTIMEZONE
END:VCALENDAR