BEGIN:VCALENDAR
VERSION:2.0
PRODID:-//wp-events-plugin.com//7.1//EN
TZID:America/Chicago
X-WR-TIMEZONE:America/Chicago
BEGIN:VEVENT
UID:1-4649@ipapolkas.com
DTSTART;TZID=America/New_York:20240609T140000
DTEND;TZID=America/New_York:20240609T180000
DTSTAMP:20240529T103128Z
URL:https://www.ipapolkas.com/events/polka-dance-sponsored-by-the-punxsuta
 wney-ground-hope-polka-club-2/
SUMMARY:polka dance sponsored by the Punxsutawney Ground hope polka club
DESCRIPTION:come dance at the Punxsutawney Eagles Club . Open to all   no
  membership required\n\nAdmission only $10.00\n\noff street parking lot\n\
 nGreat dance floor'\n\nFood and beverages available for purchase\n\nBand p
 lays a variety of music and open to requests\n\ncontact Monica for additio
 nal information at 814-592-1093\n\nemail: polkamonica@gmail.com\n\nwww.pun
 xypolkaclub.com\n\nfacebook wwwfacebook.com/monicapierce587\n\n&nbsp\;\n\n
 &nbsp\;
CATEGORIES:Dances
LOCATION:Punxsutawney Eagles\, 238 E Mahoning St. \, Punxsutawney\, Pennsyl
 vania \, 15767\, United States
GEO:40.944548;-78.968992
X-APPLE-STRUCTURED-LOCATION;VALUE=URI;X-ADDRESS=238 E Mahoning St. \, Punxs
 utawney\, Pennsylvania \, 15767\, United States;X-APPLE-RADIUS=100;X-TITLE
 =Punxsutawney Eagles:geo:40.944548,-78.968992
END:VEVENT
BEGIN:VTIMEZONE
TZID:America/New_York
X-LIC-LOCATION:America/New_York
BEGIN:DAYLIGHT
DTSTART:20240310T030000
TZOFFSETFROM:-0500
TZOFFSETTO:-0400
TZNAME:EDT
END:DAYLIGHT
END:VTIMEZONE
END:VCALENDAR