BEGIN:VCALENDAR
VERSION:2.0
PRODID:-//wp-events-plugin.com//7.1//EN
TZID:America/Chicago
X-WR-TIMEZONE:America/Chicago
BEGIN:VEVENT
UID:1-4718@ipapolkas.com
DTSTART;TZID=America/New_York:20240818T140000
DTEND;TZID=America/New_York:20240818T180000
DTSTAMP:20240812T231743Z
URL:https://www.ipapolkas.com/events/polka-dance-18/
SUMMARY:polka dance
DESCRIPTION:We hope to see many new people\n\ncome join us and have fun\, m
 eet new friends.  Admission only $10.00\n\nparking lot available \,air co
 nditioned facility\, food and beverages available for purchase\n\nBand pla
 ys a variety of dance style music and open to requests\n\nany questions Ca
 ll Monica at 814-592-1093\n\nAmerican legion is only 5.5 miles from Punxsu
 tawney\n\ncheck us on facebook https://www.facebook.com/monica.pierce.589\
 n\nemail Polkaonica@gmail.comweb site   www.punxyPolkaclub.com
CATEGORIES:Dances
LOCATION:Rossiter  American Legion PA\, 830 Central Street\, Rossiter\, PA\
 , 15772\, United States
GEO:40.890938;-78.927779
X-APPLE-STRUCTURED-LOCATION;VALUE=URI;X-ADDRESS=830 Central Street\, Rossit
 er\, PA\, 15772\, United States;X-APPLE-RADIUS=100;X-TITLE=Rossiter  Ameri
 can Legion PA:geo:40.890938,-78.927779
END:VEVENT
BEGIN:VTIMEZONE
TZID:America/New_York
X-LIC-LOCATION:America/New_York
BEGIN:DAYLIGHT
DTSTART:20240310T030000
TZOFFSETFROM:-0500
TZOFFSETTO:-0400
TZNAME:EDT
END:DAYLIGHT
END:VTIMEZONE
END:VCALENDAR