BEGIN:VCALENDAR
VERSION:2.0
PRODID:-//wp-events-plugin.com//7.1//EN
TZID:America/Chicago
X-WR-TIMEZONE:America/Chicago
BEGIN:VEVENT
UID:1-4588@ipapolkas.com
DTSTART;TZID=America/Chicago:20240421T123000
DTEND;TZID=America/Chicago:20240421T170000
DTSTAMP:20240319T122207Z
URL:https://www.ipapolkas.com/events/pna-115th-yr-anniversary-dance/
SUMMARY:PNA 115th yr Anniversary Dance
DESCRIPTION:Come join us for our 115th PNA Anniversary Dance at the Polish 
 Heritage Center at 1413 N. 20th St. St. Louis\, Mo. Music by the IPA Band 
 from Chicago Ill. with John Gora from Canada. Tickets are $15 per person i
 n Advance and $20 at the door. Doors open at 12:30 p.m.  For tickets call
  Carolyn at 636-938-4641 or 314-341-2596 or email carolynbaras@ymail.com C
 ash bar. No byob   Food will be available.
CATEGORIES:Dances
END:VEVENT
BEGIN:VTIMEZONE
TZID:America/Chicago
X-LIC-LOCATION:America/Chicago
BEGIN:DAYLIGHT
DTSTART:20240310T030000
TZOFFSETFROM:-0600
TZOFFSETTO:-0500
TZNAME:CDT
END:DAYLIGHT
END:VTIMEZONE
END:VCALENDAR