BEGIN:VCALENDAR
VERSION:2.0
PRODID:-//wp-events-plugin.com//7.1//EN
TZID:America/Chicago
X-WR-TIMEZONE:America/Chicago
BEGIN:VEVENT
UID:1-4723@ipapolkas.com
DTSTART;TZID=America/Chicago:20240818T130000
DTEND;TZID=America/Chicago:20240818T180000
DTSTAMP:20240812T232057Z
URL:https://www.ipapolkas.com/events/parade-of-polka-bands-picnic/
SUMMARY:Parade of Polka Bands Picnic
DESCRIPTION:
CATEGORIES:Festivals
LOCATION:Hammond Mohawks Picnic Grove - Hammond\, IN\, 4040 Calumet Ave.\, 
 Hammond\, IN\, 46320\, Upper Midwest\, United States
GEO:41.639755;-87.509548
X-APPLE-STRUCTURED-LOCATION;VALUE=URI;X-ADDRESS=4040 Calumet Ave.\, Hammond
 \, IN\, 46320\, Upper Midwest\, United States;X-APPLE-RADIUS=100;X-TITLE=H
 ammond Mohawks Picnic Grove - Hammond\, IN:geo:41.639755,-87.509548
END:VEVENT
BEGIN:VTIMEZONE
TZID:America/Chicago
X-LIC-LOCATION:America/Chicago
BEGIN:DAYLIGHT
DTSTART:20240310T030000
TZOFFSETFROM:-0600
TZOFFSETTO:-0500
TZNAME:CDT
END:DAYLIGHT
END:VTIMEZONE
END:VCALENDAR