BEGIN:VCALENDAR
VERSION:2.0
PRODID:-//wp-events-plugin.com//7.1//EN
TZID:America/Chicago
X-WR-TIMEZONE:America/Chicago
BEGIN:VEVENT
UID:1-3678@ipapolkas.com
DTSTART;TZID=America/New_York:20211231T190000
DTEND;TZID=America/New_York:20220101T001500
DTSTAMP:20220210T130508Z
URL:https://www.ipapolkas.com/events/new-years-eve-party-at-polish-america
 n-pulaski-club-of-daytona-beach/
SUMMARY:New Year\\'s Eve Party at Polish American Pulaski Club of Daytona B
 each
DESCRIPTION:NEW YEAR's EVE PARTY at Polish American Pulaski Club of Daytona
  Beach\n** New Location since the club was sold\, Dance are being held at 
 the Elk’s Lodge!\nCall for tickets/info: 386-258-7059/386-673-6627 Harri
 ette\nNote:..........Reservations for New Year's Eve dinner Must Be Made B
 y Dec 23rd\, 2021\nDinner 7pm with Full Cash Bar\nDancing from 8pm-12 midn
 ite\nFeaturing Polka Classics Band\nMore information e-mail: pulaskidayton
 a-club@yahoo.com\nSee web site for more info: www.polishamericanpulaskicku
 bdaytona.org……… or……. Join our Facebook page!\n&nbsp\;
CATEGORIES:Club Meetings
END:VEVENT
BEGIN:VTIMEZONE
TZID:America/New_York
X-LIC-LOCATION:America/New_York
BEGIN:STANDARD
DTSTART:20211107T010000
TZOFFSETFROM:-0400
TZOFFSETTO:-0500
TZNAME:EST
END:STANDARD
END:VTIMEZONE
END:VCALENDAR