BEGIN:VCALENDAR
VERSION:2.0
PRODID:-//wp-events-plugin.com//7.1//EN
TZID:America/Chicago
X-WR-TIMEZONE:America/Chicago
BEGIN:VEVENT
UID:1-3695@ipapolkas.com
DTSTART;TZID=America/New_York:20220130T140000
DTEND;TZID=America/New_York:20220130T180000
DTSTAMP:20211231T165300Z
URL:https://www.ipapolkas.com/events/national-polka-month-dance/
SUMMARY:National Polka Month Dance
DESCRIPTION:Dinners served at 2pm\nFull cash bar with all your favorite dri
 nks!\nDancing from 3-6pm\n*****For more info.\, please call the club: (727
 )-849-9908****\nEmail us: polishsociety1951@gmail.com\nCheck out our websi
 te for updates of events: www.polishsociety.org \nLike us on Facebook ht
 tps://www.facebook.com/StPetersburgPolishAmericanSociety/\n&nbsp\;
CATEGORIES:Clubs
LOCATION:St. Pete Polish Am. Society\, 1343 Beach Drive South East\, St. Pe
 tersburg\, Florida\, 33701\, South\, United States
GEO:27.757048;-82.631268
X-APPLE-STRUCTURED-LOCATION;VALUE=URI;X-ADDRESS=1343 Beach Drive South East
 \, St. Petersburg\, Florida\, 33701\, South\, United States;X-APPLE-RADIUS
 =100;X-TITLE=St. Pete Polish Am. Society:geo:27.757048,-82.631268
END:VEVENT
BEGIN:VTIMEZONE
TZID:America/New_York
X-LIC-LOCATION:America/New_York
BEGIN:STANDARD
DTSTART:20211107T010000
TZOFFSETFROM:-0400
TZOFFSETTO:-0500
TZNAME:EST
END:STANDARD
END:VTIMEZONE
END:VCALENDAR