BEGIN:VCALENDAR
VERSION:2.0
PRODID:-//wp-events-plugin.com//7.1//EN
TZID:America/Chicago
X-WR-TIMEZONE:America/Chicago
BEGIN:VEVENT
UID:1-3684@ipapolkas.com
DTSTART;TZID=America/New_York:20220508T130000
DTEND;TZID=America/New_York:20220508T170000
DTSTAMP:20211217T193313Z
URL:https://www.ipapolkas.com/events/mothers-fathers-day-dinner-dance-gene
 rial-k-pulaski-citizens-club/
SUMMARY:Mothers &amp\; Fathers Day Dinner Dance @ Generial K. Pulaski Citiz
 ens Club
DESCRIPTION:Mothers/Fathers Day Dinner Dance @ Generial K. Pulaski Citizens
  Club\nDate: Sunday May 8\nDinner: 1pm\nMusic by: Melotones\nBring your ow
 n Drinks (BYOB) \n*Call Carolyn for Dinner reservations at (352)-873-0010
 \nNote: Reservations for dinner must be called in by May 4th  2022 \nOpen
  to the public\, Everyone is Invited to come!!
CATEGORIES:Clubs
LOCATION:Generial K. Pulaski Citizens Club\, 6221 S.E. 113th street\, Belle
 view\, Florida\, 34420\, South\, United States
GEO:29.058034;-82.047503
X-APPLE-STRUCTURED-LOCATION;VALUE=URI;X-ADDRESS=6221 S.E. 113th street\, Be
 lleview\, Florida\, 34420\, South\, United States;X-APPLE-RADIUS=100;X-TIT
 LE=Generial K. Pulaski Citizens Club:geo:29.058034,-82.047503
END:VEVENT
BEGIN:VTIMEZONE
TZID:America/New_York
X-LIC-LOCATION:America/New_York
BEGIN:DAYLIGHT
DTSTART:20220313T030000
TZOFFSETFROM:-0500
TZOFFSETTO:-0400
TZNAME:EDT
END:DAYLIGHT
END:VTIMEZONE
END:VCALENDAR