BEGIN:VCALENDAR
VERSION:2.0
PRODID:-//wp-events-plugin.com//7.1//EN
TZID:America/Chicago
X-WR-TIMEZONE:America/Chicago
BEGIN:VEVENT
UID:1-4715@ipapolkas.com
DTSTART;TZID=America/Chicago:20241004T170000
DTEND;TZID=America/Chicago:20241004T210000
DTSTAMP:20240812T231757Z
URL:https://www.ipapolkas.com/events/mollie-b-and-squeezebox-with-ted-lang
 e-concert-dance/
SUMMARY:Mollie B and Squeezebox with Ted Lange Concert/Dance
DESCRIPTION:The Praha Outdoor Performance Stage (POPS) Gala II will be held
  Friday\, Oct. 4\, 5 p.m. to 9 p.m.\, at the Park Ballroom in New Prague\,
  MN featuring a concert/dance with International Polka Hall of Fame artist
 s “Mollie B &amp\; SqueezeBox with Ted Lange" performing from 6 - 9 pm a
 nd the Tim Chlan Band from 5 - 6 pm.
ATTACH;FMTTYPE=image/jpeg:https://www.ipapolkas.com/wp-content/uploads/202
 4/08/MollieTed.png
CATEGORIES:Concerts,Dances
LOCATION:Park Ballroom\, 300 Lexington Ave S\, New Prague\, Minnesota\, 560
 71\, United States
GEO:44.541046;-93.567602
X-APPLE-STRUCTURED-LOCATION;VALUE=URI;X-ADDRESS=300 Lexington Ave S\, New P
 rague\, Minnesota\, 56071\, United States;X-APPLE-RADIUS=100;X-TITLE=Park 
 Ballroom:geo:44.541046,-93.567602
END:VEVENT
BEGIN:VTIMEZONE
TZID:America/Chicago
X-LIC-LOCATION:America/Chicago
BEGIN:DAYLIGHT
DTSTART:20240310T030000
TZOFFSETFROM:-0600
TZOFFSETTO:-0500
TZNAME:CDT
END:DAYLIGHT
END:VTIMEZONE
END:VCALENDAR