BEGIN:VCALENDAR
VERSION:2.0
PRODID:-//wp-events-plugin.com//7.1//EN
TZID:America/Chicago
X-WR-TIMEZONE:America/Chicago
BEGIN:VEVENT
UID:1-4743@ipapolkas.com
DTSTART;TZID=America/Chicago;VALUE=DATE:20240914
DTEND;TZID=America/Chicago;VALUE=DATE:20240915
DTSTAMP:20240912T192241Z
URL:https://www.ipapolkas.com/events/kinde-polka-festival/
SUMMARY:Kinde Polka festival
DESCRIPTION:Kinde Polka Festival\n\nfeaturing\n\nDouble Shot\n\nPolka  Gen
 erations\n\nPan  Franek\n\nNew Brass Express
CATEGORIES:Festivals
END:VEVENT
BEGIN:VTIMEZONE
TZID:America/Chicago
X-LIC-LOCATION:America/Chicago
BEGIN:DAYLIGHT
DTSTART:20240310T030000
TZOFFSETFROM:-0600
TZOFFSETTO:-0500
TZNAME:CDT
END:DAYLIGHT
END:VTIMEZONE
END:VCALENDAR