BEGIN:VCALENDAR
VERSION:2.0
PRODID:-//wp-events-plugin.com//7.1//EN
TZID:America/Chicago
X-WR-TIMEZONE:America/Chicago
BEGIN:VEVENT
UID:1-4622@ipapolkas.com
DTSTART;TZID=America/Chicago:20240602T123000
DTEND;TZID=America/Chicago:20240602T170000
DTSTAMP:20240514T093900Z
URL:https://www.ipapolkas.com/events/jamming-polka-fun/
SUMMARY:Jamming Polka Fun
DESCRIPTION:Doors open 1230pm\n\nmusic 1-5pm by The Polka Generations\n\nad
 mission $15 \, 18 and under free with paying adult!!
CATEGORIES:Dances
LOCATION:Royalty West Banquets\, 8675 S. Archer Ave\, Willow Springs\, IL\,
  United States
GEO:41.732081;-87.87473
X-APPLE-STRUCTURED-LOCATION;VALUE=URI;X-ADDRESS=8675 S. Archer Ave\, Willow
  Springs\, IL\, United States;X-APPLE-RADIUS=100;X-TITLE=Royalty West Banq
 uets:geo:41.732081,-87.87473
END:VEVENT
BEGIN:VTIMEZONE
TZID:America/Chicago
X-LIC-LOCATION:America/Chicago
BEGIN:DAYLIGHT
DTSTART:20240310T030000
TZOFFSETFROM:-0600
TZOFFSETTO:-0500
TZNAME:CDT
END:DAYLIGHT
END:VTIMEZONE
END:VCALENDAR