BEGIN:VCALENDAR
VERSION:2.0
PRODID:-//wp-events-plugin.com//7.1//EN
TZID:America/Chicago
X-WR-TIMEZONE:America/Chicago
BEGIN:VEVENT
UID:1-4587@ipapolkas.com
DTSTART;TZID=America/Chicago:20240510T190000
DTEND;TZID=America/Chicago:20240510T220000
DTSTAMP:20240319T122227Z
URL:https://www.ipapolkas.com/events/friday-night-celebrate-mothers-day-da
 nce/
SUMMARY:Friday Night Celebrate Mother\\'s Day Dance
DESCRIPTION:Cleveland Polka Association ~ Friday Night Celebrate Mother's D
 ay Dance ~ Friday May 10\, 2024\n\nDoors open 6:00 pm\, Music by: da Polk
 a Bums 7:00 pm to 10:00 pm\n\nB.Y.O.B. (beer\, wine\, booze) ~ Free wash\,
  pop\, and ice will be provided.\n\n@ St. Andrew Party Center  7700 Hoert
 z Road  Parma\, OH  44134  (off Pleasant Valley Road)\n\nFood by Classi
 c Cuisine will be available. snacks are welcome.\n\nDonation $10.00 *for M
 embers*\, $13.00 for Non-Members.\n\n* members bring your newsletter or y
 our dated email from your newsletter blast to verify your membership date 
 *  (we can also look it up)\n\n18 years and under are Free!!!   Mother'
 s Day Basket Raffle\, Cash/Lottery Raffle\, 50/50 Raffles\, Card Raffles\n
 \nno table reservations. for more information please call (330) 461-1772 A
 nna\n\nPublic Welcome!!!   www.cpapolkas.com    we are on Facebook\n\n
 &nbsp\;
CATEGORIES:Dances
END:VEVENT
BEGIN:VTIMEZONE
TZID:America/Chicago
X-LIC-LOCATION:America/Chicago
BEGIN:DAYLIGHT
DTSTART:20240310T030000
TZOFFSETFROM:-0600
TZOFFSETTO:-0500
TZNAME:CDT
END:DAYLIGHT
END:VTIMEZONE
END:VCALENDAR