BEGIN:VCALENDAR
VERSION:2.0
PRODID:-//wp-events-plugin.com//7.1//EN
TZID:America/Chicago
X-WR-TIMEZONE:America/Chicago
BEGIN:VEVENT
UID:1-4582@ipapolkas.com
DTSTART;TZID=America/Chicago:20240519T150000
DTEND;TZID=America/Chicago:20240519T190000
DTSTAMP:20240319T122232Z
URL:https://www.ipapolkas.com/events/fred-ziwich-the-ism-band-3/
SUMMARY:Fred Ziwich &amp\; the ISM Band
DESCRIPTION:Fred Ziwich &amp\; the ISM Band\n\nBallroom dance selections an
 d more!\nSunday:  May 19\, 2024\n 3 - 7pm\nAmerican Czechoslovakian Club
 \n922 Valley Street\, Dayton OH\n$14 Members\, $15 non-Members\nIncludes: 
 Beer * Wine * Soft Drinks * Snacks\n(Food Available)\nReservations if desi
 red:\nMary Chidester      937-287-4275\nreservations@accdayton.com\nwww
 .accdayton.com
CATEGORIES:Dances
LOCATION:American Czechoslovakian Club\, 922 Valley St.\, Dayton\, Ohio\, 4
 5404\, United States
GEO:39.778109;-84.16417999999999
X-APPLE-STRUCTURED-LOCATION;VALUE=URI;X-ADDRESS=922 Valley St.\, Dayton\, O
 hio\, 45404\, United States;X-APPLE-RADIUS=100;X-TITLE=American Czechoslov
 akian Club:geo:39.778109,-84.16417999999999
END:VEVENT
BEGIN:VTIMEZONE
TZID:America/Chicago
X-LIC-LOCATION:America/Chicago
BEGIN:DAYLIGHT
DTSTART:20240310T030000
TZOFFSETFROM:-0600
TZOFFSETTO:-0500
TZNAME:CDT
END:DAYLIGHT
END:VTIMEZONE
END:VCALENDAR