BEGIN:VCALENDAR
VERSION:2.0
PRODID:-//wp-events-plugin.com//7.1//EN
TZID:America/Chicago
X-WR-TIMEZONE:America/Chicago
BEGIN:VEVENT
UID:1-4579@ipapolkas.com
DTSTART;TZID=America/Chicago:20240407T150000
DTEND;TZID=America/Chicago:20240407T190000
DTSTAMP:20240319T122157Z
URL:https://www.ipapolkas.com/events/frank-moravcik-band-2/
SUMMARY:Frank Moravcik Band
DESCRIPTION:Frank Moravcik  Band\nSpring has Sprung Dance!\nBallroom dance
  selections and more!\nSunday: April 7\, 2024\n3 - 7pm\nAmerican Czechoslo
 vakian Club\n922 Valley Street\, Dayton OH\n$14 Members\, $15 non-Members\
 nIncludes: Beer * Wine * Soft Drinks * Snacks\n(Food Available)\n Reserva
 tions if desired:\nMary Chidester      937-287-4275\nreservations@accda
 yton.com\nwww.accdayton.com
CATEGORIES:Dances
LOCATION:American Czechoslovakian Club\, 922 Valley St.\, Dayton\, Ohio\, 4
 5404\, United States
GEO:39.778109;-84.16417999999999
X-APPLE-STRUCTURED-LOCATION;VALUE=URI;X-ADDRESS=922 Valley St.\, Dayton\, O
 hio\, 45404\, United States;X-APPLE-RADIUS=100;X-TITLE=American Czechoslov
 akian Club:geo:39.778109,-84.16417999999999
END:VEVENT
BEGIN:VTIMEZONE
TZID:America/Chicago
X-LIC-LOCATION:America/Chicago
BEGIN:DAYLIGHT
DTSTART:20240310T030000
TZOFFSETFROM:-0600
TZOFFSETTO:-0500
TZNAME:CDT
END:DAYLIGHT
END:VTIMEZONE
END:VCALENDAR