BEGIN:VCALENDAR
VERSION:2.0
PRODID:-//wp-events-plugin.com//7.1//EN
TZID:America/Chicago
X-WR-TIMEZONE:America/Chicago
BEGIN:VEVENT
UID:1-4580@ipapolkas.com
DTSTART;TZID=America/Chicago:20240419T180000
DTEND;TZID=America/Chicago:20240419T193000
DTSTAMP:20240319T122202Z
URL:https://www.ipapolkas.com/events/czech-club-cabbage-roll-dinner-dance-
 4/
SUMMARY:Czech Club Cabbage Roll Dinner &amp\; Dance
DESCRIPTION:&nbsp\;\n\n&nbsp\;\n\n&nbsp\;\nCzech Club Cabbage Roll Dinner/D
 ance\nFriday: April 19\, 2024\nDinner:  6 – 7:30pm\nEd Klimczak Music: 
 7:30-10pm\nAmerican Czechoslovakian Club\n922 Valley Street\, Dayton OH\n$
 16 Members\, $17 non-Members\nDance Only - $8.00\n(Children under 12 years
  Half Price)\nIncludes: Cabbage rolls /Mashed Potatoes/Vegetable/Salad\nD
 esserts/Coffee/Beer/Wine &amp\; Soda\nReservations Required by Wed. Apr 17
 \nMary Chidester      937-287-4275\nreservations@accdayton.com\nwww.acc
 dayton.com
CATEGORIES:Dances
LOCATION:American Czechoslovakian Club\, 922 Valley St.\, Dayton\, Ohio\, 4
 5404\, United States
GEO:39.778109;-84.16417999999999
X-APPLE-STRUCTURED-LOCATION;VALUE=URI;X-ADDRESS=922 Valley St.\, Dayton\, O
 hio\, 45404\, United States;X-APPLE-RADIUS=100;X-TITLE=American Czechoslov
 akian Club:geo:39.778109,-84.16417999999999
END:VEVENT
BEGIN:VTIMEZONE
TZID:America/Chicago
X-LIC-LOCATION:America/Chicago
BEGIN:DAYLIGHT
DTSTART:20240310T030000
TZOFFSETFROM:-0600
TZOFFSETTO:-0500
TZNAME:CDT
END:DAYLIGHT
END:VTIMEZONE
END:VCALENDAR