BEGIN:VCALENDAR
VERSION:2.0
PRODID:-//wp-events-plugin.com//7.1//EN
TZID:America/Chicago
X-WR-TIMEZONE:America/Chicago
BEGIN:VEVENT
UID:1-4677@ipapolkas.com
DTSTART;TZID=America/Chicago:20240714T150000
DTEND;TZID=America/Chicago:20240714T190000
DTSTAMP:20240702T115510Z
URL:https://www.ipapolkas.com/events/cleveland-polka-associations-picnic-2
 -show-your-patriotism/
SUMMARY:Cleveland Polka Association\\'s Picnic #2 ~ Show Your Patriotism
DESCRIPTION:\n\nCleveland Polka Association picnic #2 ~ Show Your Patrio
 tism  Sunday July 14\, 2024\nWear your Red\, White and Blue!!!  Gate ope
 ns @ 2:00 pm with music 3:00 pm to 7:00 pm\nBand:  New Brass Express
  from MI\n\n\nThe Colors will be presented by The Joseph J. Jacubic Ameri
 can Legion Post #572\, Parma OH.  Veterans will be asked to accompany the
  Color Guard for the presentation of the Colors.  The American National A
 nthem &amp\; Polish National Anthem will be played and TAPS will be perfor
 med.\n\n\nSt. Sava's Picnic Grove  2300 W. Ridgewood Drive  Parma\, OH 
  44134  (between Broadview &amp\; State Roads)\nDonation $16\, 18 yrs. a
 nd under are Free!!!  NO b.y.o.b.\, Beverages will be available.  NO
  b.y.o.f.\, Food will be available by Babcia's Kitchen\nSnacks are welcom
 e.\nNO table reservations.  For more info.~ (330) 461-1772 Anna\nPublic W
 elcome!!!\n\ncpapolkas.com\nFacebook\n\n\n
CATEGORIES:Dances,Picnics
LOCATION:St. Sava's Picnic Grove\, 2300 W. Ridgewood Drive\, Parma\, OH\, 4
 4134\, United States
GEO:41.3917872;-81.69647909999998
X-APPLE-STRUCTURED-LOCATION;VALUE=URI;X-ADDRESS=2300 W. Ridgewood Drive\, P
 arma\, OH\, 44134\, United States;X-APPLE-RADIUS=100;X-TITLE=St. Sava's Pi
 cnic Grove:geo:41.3917872,-81.69647909999998
END:VEVENT
BEGIN:VTIMEZONE
TZID:America/Chicago
X-LIC-LOCATION:America/Chicago
BEGIN:DAYLIGHT
DTSTART:20240310T030000
TZOFFSETFROM:-0600
TZOFFSETTO:-0500
TZNAME:CDT
END:DAYLIGHT
END:VTIMEZONE
END:VCALENDAR