BEGIN:VCALENDAR
VERSION:2.0
PRODID:-//wp-events-plugin.com//7.1//EN
TZID:America/Chicago
X-WR-TIMEZONE:America/Chicago
BEGIN:VEVENT
UID:1-4714@ipapolkas.com
DTSTART;TZID=America/New_York:20240902T150000
DTEND;TZID=America/New_York:20240902T190000
DTSTAMP:20240805T101322Z
URL:https://www.ipapolkas.com/events/cleveland-polka-association-b-y-o-e-l
 abor-day-picnic-3/
SUMMARY:Cleveland Polka Association B.Y.O.E. Labor Day Picnic
DESCRIPTION:B. Y. O. E.  (BringYourOwnEverything) Cleveland Polka Associat
 ion's Labor Day Picnic Monday September 2\, 2024\n\nMusic by: OLD SCHOOL f
 rom OH  gate opens 2:00 pm\, Music 3:00 pm to 7:00 pm\n\nSt. Sava's Picni
 c Grove  2300 W. Ridgewood Drive  Parma\, OH  44134\n\nDonation $16\, t
 hose 18yrs. and under are Free!!!\n\nno table reservations\n\nfor more inf
 ormation: (330) 461-1772 Anna\n\nPublic Welcome!!!\n\nwww.cpapolkas.com\n\
 nFacebook\n\nBYOE ~ bring your coolers\, beverages\, food\, snacks\, etc.\
 n\n&nbsp\;
ATTACH;FMTTYPE=image/jpeg:https://www.ipapolkas.com/wp-content/uploads/202
 4/08/BYOELaborDay.jpg
CATEGORIES:Dances,Picnics
LOCATION:St. Sava's Picnic Grove\, 2300 W. Ridgewood Drive\, Parma\, OH\, 4
 4134\, United States
GEO:41.3917872;-81.69647909999998
X-APPLE-STRUCTURED-LOCATION;VALUE=URI;X-ADDRESS=2300 W. Ridgewood Drive\, P
 arma\, OH\, 44134\, United States;X-APPLE-RADIUS=100;X-TITLE=St. Sava's Pi
 cnic Grove:geo:41.3917872,-81.69647909999998
END:VEVENT
BEGIN:VTIMEZONE
TZID:America/New_York
X-LIC-LOCATION:America/New_York
BEGIN:DAYLIGHT
DTSTART:20240310T030000
TZOFFSETFROM:-0500
TZOFFSETTO:-0400
TZNAME:EDT
END:DAYLIGHT
END:VTIMEZONE
END:VCALENDAR