BEGIN:VCALENDAR
VERSION:2.0
PRODID:-//wp-events-plugin.com//7.1//EN
TZID:America/Chicago
X-WR-TIMEZONE:America/Chicago
BEGIN:VEVENT
UID:1-3421@ipapolkas.com
DTSTART;TZID=America/New_York:20211219T130000
DTEND;TZID=America/New_York:20211219T180000
DTSTAMP:20210306T154227Z
URL:https://www.ipapolkas.com/events/christmas-dance-2/
SUMMARY:Christmas Dance
DESCRIPTION:German American Club of Marion County annual Christmas Dinner/D
 ance\nLocation: Marion Oaks Community Center\nAddress: 294 Marion Oaks Lan
 e\, Ocala FL. 34474\nDate: Sunday Dec. 19\, 2021\nTime: Dinner 1pm/BYOB dr
 inks\nDancing: 2-6pm\nDinner: TBD with Christmas cookies &amp\; Santa\nBan
 d: Tannanbaums /(Northern Sounds)\n*Call Mary Wisecup for tickets/info. (3
 52)-789-6499*\n**Visit website: www.gacmarioncounty.com\n\n
CATEGORIES:Clubs
LOCATION:Marion Oaks Community Center\, 294 Marion Oaks Lane\, Ocala\, Flor
 ida\, 34474\, South\, United States
GEO:29.004778;-82.175576
X-APPLE-STRUCTURED-LOCATION;VALUE=URI;X-ADDRESS=294 Marion Oaks Lane\, Ocal
 a\, Florida\, 34474\, South\, United States;X-APPLE-RADIUS=100;X-TITLE=Mar
 ion Oaks Community Center:geo:29.004778,-82.175576
END:VEVENT
BEGIN:VTIMEZONE
TZID:America/New_York
X-LIC-LOCATION:America/New_York
BEGIN:STANDARD
DTSTART:20211107T010000
TZOFFSETFROM:-0400
TZOFFSETTO:-0500
TZNAME:EST
END:STANDARD
END:VTIMEZONE
END:VCALENDAR