BEGIN:VCALENDAR
VERSION:2.0
PRODID:-//wp-events-plugin.com//7.1//EN
TZID:America/Chicago
X-WR-TIMEZONE:America/Chicago
BEGIN:VEVENT
UID:1-3689@ipapolkas.com
DTSTART;TZID=America/Chicago:20220213T150000
DTEND;TZID=America/Chicago:20220213T190000
DTSTAMP:20211226T190551Z
URL:https://www.ipapolkas.com/events/chardon-band/
SUMMARY:Chardon Band
DESCRIPTION:\n\nChardon Band\nPlaying Polkas &amp\; ballroom selections!\n\
 n Sunday: February 13\, 2022 3 - 7 pm\n American Czechoslovakian Club\n922
 Valley Street\, Dayton OH 45404\n$14 Members\, $15 non-Members\nIncludes: 
 Beer * Wine * Soft Drinks * Snacks (Food Available)\nPublic Invited: Reser
 vations if desired:\nMary Chidester 937-287-4275\nreservations@accdayton.c
 om\nwww.accdayton.com
CATEGORIES:Dances
LOCATION:American Czechoslovakian Club\, 922 Valley St.\, Dayton\, Ohio\, 4
 5404\, United States
GEO:39.778109;-84.16417999999999
X-APPLE-STRUCTURED-LOCATION;VALUE=URI;X-ADDRESS=922 Valley St.\, Dayton\, O
 hio\, 45404\, United States;X-APPLE-RADIUS=100;X-TITLE=American Czechoslov
 akian Club:geo:39.778109,-84.16417999999999
END:VEVENT
BEGIN:VTIMEZONE
TZID:America/Chicago
X-LIC-LOCATION:America/Chicago
BEGIN:STANDARD
DTSTART:20211107T010000
TZOFFSETFROM:-0500
TZOFFSETTO:-0600
TZNAME:CST
END:STANDARD
END:VTIMEZONE
END:VCALENDAR