BEGIN:VCALENDAR
VERSION:2.0
PRODID:-//wp-events-plugin.com//7.1//EN
TZID:America/Chicago
X-WR-TIMEZONE:America/Chicago
BEGIN:VEVENT
UID:1-3707@ipapolkas.com
DTSTART;TZID=America/New_York:20220219T110000
DTEND;TZID=America/New_York:20220219T180000
DTSTAMP:20220113T004956Z
URL:https://www.ipapolkas.com/events/central-florida-accordion-clubs-annua
 l-accordionfest-2022/
SUMMARY:Central Florida Accordion Club's annual ACCORDIONFEST 2022
DESCRIPTION:Accordionfest 2022\nLocation is: German American Society of cen
 tral Florida\n\nAddress: 381 Orange Lane\, Casselberry\, FL. 32707-3247\n\
 nDate: Saturday Feb 19\, 2022\n\nDonation: Only $10.00 per person at the d
 oor\n\nBands/performers will be: \n\n 	Sonnenschnapps\n 	Jess &amp\; Joan\
 n 	John Lobosco\n 	Palm Island Music Ensemble\n 	Schuhplatter Gruppe Alpen
 rose\n 	Jam sessions thru out the day ( bring your instruments to play!!)\
 n 	Kitchen will be open for food from 12N-5pm\n 	Full cash Bar \n\nCall: 
 Corkey Hall for information (407)-616-5344\, email: corkykh@bellsouth.net
CATEGORIES:Festivals
LOCATION:German American Society of Central Florida\, 381 Orange Lane\, Cas
 selberry\, Florida\, 32707-3246\, South\, United States
GEO:28.670728;-81.344724
X-APPLE-STRUCTURED-LOCATION;VALUE=URI;X-ADDRESS=381 Orange Lane\, Casselber
 ry\, Florida\, 32707-3246\, South\, United States;X-APPLE-RADIUS=100;X-TIT
 LE=German American Society of Central Florida:geo:28.670728,-81.344724
END:VEVENT
BEGIN:VTIMEZONE
TZID:America/New_York
X-LIC-LOCATION:America/New_York
BEGIN:STANDARD
DTSTART:20211107T010000
TZOFFSETFROM:-0400
TZOFFSETTO:-0500
TZNAME:EST
END:STANDARD
END:VTIMEZONE
END:VCALENDAR