BEGIN:VCALENDAR
VERSION:2.0
PRODID:-//wp-events-plugin.com//7.1//EN
TZID:America/Chicago
X-WR-TIMEZONE:America/Chicago
BEGIN:VEVENT
UID:1-3496@ipapolkas.com
DTSTART;TZID=America/Chicago:20211010T123000
DTEND;TZID=America/Chicago:20211010T170000
DTSTAMP:20210611T202244Z
URL:https://www.ipapolkas.com/events/bel-aire-oktoberfest/
SUMMARY:Bel-Aire Oktoberfest
DESCRIPTION:Bel-Aire Enterprises celebrates Oktoberfest . . . \n\n\n&nbsp\;
ATTACH;FMTTYPE=image/jpeg:https://www.ipapolkas.com/wp-content/uploads/202
 1/06/BelAireOctoberfest2021.jpg
LOCATION:Glendora Banquets - Chicago Ridge\, IL\, 10225 Harlem Ave\, Chicag
 o Ridge\, IL\, 60415\, Upper Midwest\, United States
GEO:41.705891;-87.79692399999999
X-APPLE-STRUCTURED-LOCATION;VALUE=URI;X-ADDRESS=10225 Harlem Ave\, Chicago 
 Ridge\, IL\, 60415\, Upper Midwest\, United States;X-APPLE-RADIUS=100;X-TI
 TLE=Glendora Banquets - Chicago Ridge\, IL:geo:41.705891,-87.7969239999999
 9
END:VEVENT
BEGIN:VTIMEZONE
TZID:America/Chicago
X-LIC-LOCATION:America/Chicago
BEGIN:DAYLIGHT
DTSTART:20210314T030000
TZOFFSETFROM:-0600
TZOFFSETTO:-0500
TZNAME:CDT
END:DAYLIGHT
END:VTIMEZONE
END:VCALENDAR