BEGIN:VCALENDAR
VERSION:2.0
PRODID:-//wp-events-plugin.com//7.1//EN
TZID:America/Chicago
X-WR-TIMEZONE:America/Chicago
BEGIN:VEVENT
UID:1-3688@ipapolkas.com
DTSTART;TZID=America/Chicago:20220130T150000
DTEND;TZID=America/Chicago:20220130T190000
DTSTAMP:20211226T190550Z
URL:https://www.ipapolkas.com/events/aaron-dussing-band-formerly-polka-rev
 olution/
SUMMARY:Aaron Dussing Band (formerly Polka Revolution)
DESCRIPTION:The Aaron Dussing Band\nformerly the Polka Revolution Band\nBal
 lroom dance selections &amp\; more!\nSunday: January 30\, 2022\n3:00 - 7:0
 0pm\nAmerican Czechoslovakian Club\n922 Valley Street\, Dayton OH 45404\n$
 14 Members\, $15 non-Members\nIncludes: Beer * Wine * Soft Drinks * Snacks
  (Food Available)\nPublic Invited: Reservations if desired:\nMary Chideste
 r 937-287-4275\nreservations@accdayton.com \nwww.accdayton.com
CATEGORIES:Dances
LOCATION:American Czechoslovakian Club\, 922 Valley St\, Dayton\, OH\, 4540
 4\, United States
GEO:39.778338;-84.164493
X-APPLE-STRUCTURED-LOCATION;VALUE=URI;X-ADDRESS=922 Valley St\, Dayton\, OH
 \, 45404\, United States;X-APPLE-RADIUS=100;X-TITLE=American Czechoslovaki
 an Club:geo:39.778338,-84.164493
END:VEVENT
BEGIN:VTIMEZONE
TZID:America/Chicago
X-LIC-LOCATION:America/Chicago
BEGIN:STANDARD
DTSTART:20211107T010000
TZOFFSETFROM:-0500
TZOFFSETTO:-0600
TZNAME:CST
END:STANDARD
END:VTIMEZONE
END:VCALENDAR