BEGIN:VCALENDAR
VERSION:2.0
PRODID:-//wp-events-plugin.com//7.1//EN
TZID:America/Chicago
X-WR-TIMEZONE:America/Chicago
BEGIN:VEVENT
UID:1-4681@ipapolkas.com
DTSTART;TZID=America/Chicago:20240818T150000
DTEND;TZID=America/Chicago:20240818T150000
DTSTAMP:20240721T191111Z
URL:https://www.ipapolkas.com/events/aaron-dussing-band-2/
SUMMARY:Aaron Dussing Band
DESCRIPTION:The Aaron Dussing Band\nformerly the Polka Revolution Band\nBal
 lroom dance selections &amp\; more!\nSunday: August 18\, 2024\n3 - 7pm\nAm
 erican Czechoslovakian Club\n922 Valley Street\, Dayton OH\n$14 Members\, 
 $15 non-Members\nIncludes: Beer * Wine * Soft Drinks * Snacks\n(Food Avail
 able)\nReservations if desired:\nMary Chidester 937-287-4275\nreservations
 @accdayton.com\nwww.accdayton.com
CATEGORIES:Dances
LOCATION:American Czechoslovakian Club\, 922 Valley St.\, Dayton\, Ohio\, 4
 5404\, United States
GEO:39.778338;-84.164493
X-APPLE-STRUCTURED-LOCATION;VALUE=URI;X-ADDRESS=922 Valley St.\, Dayton\, O
 hio\, 45404\, United States;X-APPLE-RADIUS=100;X-TITLE=American Czechoslov
 akian Club:geo:39.778338,-84.164493
END:VEVENT
BEGIN:VTIMEZONE
TZID:America/Chicago
X-LIC-LOCATION:America/Chicago
BEGIN:DAYLIGHT
DTSTART:20240310T030000
TZOFFSETFROM:-0600
TZOFFSETTO:-0500
TZNAME:CDT
END:DAYLIGHT
END:VTIMEZONE
END:VCALENDAR