BEGIN:VCALENDAR
VERSION:2.0
PRODID:-//wp-events-plugin.com//7.1//EN
TZID:America/Chicago
X-WR-TIMEZONE:America/Chicago
BEGIN:VEVENT
UID:1-4570@ipapolkas.com
DTSTART;TZID=America/Chicago:20240428T133000
DTEND;TZID=America/Chicago:20240428T180000
DTSTAMP:20240228T125844Z
URL:https://www.ipapolkas.com/events/a-combination-celebration-polish-cons
 titution-day-cinco-de-mayo/
SUMMARY:A COMBINATION CELEBRATION POLISH CONSTITUTION DAY &amp\; CINCO DE M
 AYO
DESCRIPTION:THE POLKA FAMILY BAND FROM PENNSYLVANIA\n\nDoors open at 1:30\n
 Music and Dancing 2:00 - 6:00\nAdmission Price - $18 per person\nChildren 
 Under 12 admitted Free\nFood &amp\; Drinks will be available for purchase.
 \nFor more information please call 708-594-5182\nor email belaire7208@aol.
 com.
ATTACH;FMTTYPE=image/jpeg:https://www.ipapolkas.com/wp-content/uploads/202
 4/02/ACombo-Celebration-Flyer2024-web-scaled.jpg
CATEGORIES:Dances
LOCATION:Royalty West Banquets\, 8675 S. Archer Ave\, Willow Springs\, IL\,
  United States
GEO:41.732081;-87.87473
X-APPLE-STRUCTURED-LOCATION;VALUE=URI;X-ADDRESS=8675 S. Archer Ave\, Willow
  Springs\, IL\, United States;X-APPLE-RADIUS=100;X-TITLE=Royalty West Banq
 uets:geo:41.732081,-87.87473
END:VEVENT
BEGIN:VTIMEZONE
TZID:America/Chicago
X-LIC-LOCATION:America/Chicago
BEGIN:DAYLIGHT
DTSTART:20240310T030000
TZOFFSETFROM:-0600
TZOFFSETTO:-0500
TZNAME:CDT
END:DAYLIGHT
END:VTIMEZONE
END:VCALENDAR