BEGIN:VCALENDAR
VERSION:2.0
PRODID:-//wp-events-plugin.com//7.1//EN
TZID:America/Chicago
X-WR-TIMEZONE:America/Chicago
BEGIN:VEVENT
UID:1-4687@ipapolkas.com
DTSTART;TZID=America/New_York:20240728T130000
DTEND;TZID=America/New_York:20240728T180000
DTSTAMP:20240721T190156Z
URL:https://www.ipapolkas.com/events/7th-mjf-polkas-for-parkinsons-researc
 h-fundraiser-dance/
SUMMARY:7th MJF Polkas for Parkinson's Research Fundraiser Dance
DESCRIPTION:[gview file="https://www.ipapolkas.com/wp-content/uploads/2024/
 07/Happy-Louie-Event-2024.pdf"]
CATEGORIES:Dances
LOCATION:Pulaski Park Picnic Shelter - Three Rivers\, MA\, 40 Belchertown S
 treet\, Three Rivers\, MA\, 01080\, Northeast\, United States
GEO:42.1839314;-72.36810989999998
X-APPLE-STRUCTURED-LOCATION;VALUE=URI;X-ADDRESS=40 Belchertown Street\, Thr
 ee Rivers\, MA\, 01080\, Northeast\, United States;X-APPLE-RADIUS=100;X-TI
 TLE=Pulaski Park Picnic Shelter - Three Rivers\, MA:geo:42.1839314,-72.368
 10989999998
END:VEVENT
BEGIN:VTIMEZONE
TZID:America/New_York
X-LIC-LOCATION:America/New_York
BEGIN:DAYLIGHT
DTSTART:20240310T030000
TZOFFSETFROM:-0500
TZOFFSETTO:-0400
TZNAME:EDT
END:DAYLIGHT
END:VTIMEZONE
END:VCALENDAR