BEGIN:VCALENDAR
VERSION:2.0
PRODID:-//wp-events-plugin.com//7.1//EN
TZID:America/Chicago
X-WR-TIMEZONE:America/Chicago
BEGIN:VEVENT
UID:1-4566@ipapolkas.com
DTSTART;TZID=America/New_York:20240421T130000
DTEND;TZID=America/New_York:20240421T190000
DTSTAMP:20240228T125840Z
URL:https://www.ipapolkas.com/events/40th-annual-super-button-box-bash/
SUMMARY:40th Annual Super Button Box Bash
DESCRIPTION:Fifty Accordions at the\n\n40th Super Button Box Bash\n\nSunday
 \, April 21\n\n&nbsp\;\n\nJoin the squeezebox celebration at the 40th annu
 al Super Button Box Bash on Sunday\, April 21\, 2024. You’ll dance and c
 lap along to the sounds of fifty accordions\, plus jam sessions all throug
 h the day. The National Cleveland-Style Polka Hall of Fame welcomes you to
  the American Croatian Lodge in Eastlake\, Ohio\, for the Woodstock of pol
 ka music\, from 1:00 to 7:00 p.m.\n\nEnjoy a grand reunion of the best but
 ton accordion players in North America at the largest festival of its kind
 . Bring your own box and play along. Indulge in nationality treats\, such 
 as smoked Slovenian sausage and strudel.  Pick up a souvenir tee-shirt or
  sweatshirt or polka music CD at the Polka Hall of Fame pop-up shop.\n\nTh
 rill to ten button box groups and artists appearing on the main stage\, pl
 us polka jamming in the annex. Featured performers include: The Fairport J
 ammers\, Ron Likovic\, the Valencic Brothers\, Frank Moravcik and Linda Ho
 chevar\, Kathy Hlad\, Patty C &amp\; The Guys\, and more. The American Cro
 atian Lodge is at 34900 Lake Shore Boulevard\, Eastlake\, Ohio\, just west
  of Rt. 91 (SOM Center Road).\n\nSave $3 with a $12 advance ticket through
  the Polka Hall of Fame. $15\, day of the event. 18 and under free. Contac
 t the Polka Hall of Fame\, 605 East 222nd Street\, Euclid\, Ohio\, (216) 2
 61-3263 or PolkaShop at aol.com. Open Wednesday and Saturday\, 9 to 2.
ATTACH;FMTTYPE=image/jpeg:https://www.ipapolkas.com/wp-content/uploads/202
 4/02/Polka-Hall-Button-Box-Bash-40-Linda-Hochevar-scaled.jpg
CATEGORIES:Festivals
LOCATION:American Croatian Lodge\, 34900 Lake Shore Boulevard\, Eastlake\, 
 OH\, 44095\, United States
GEO:41.662371;-81.440126
X-APPLE-STRUCTURED-LOCATION;VALUE=URI;X-ADDRESS=34900 Lake Shore Boulevard\
 , Eastlake\, OH\, 44095\, United States;X-APPLE-RADIUS=100;X-TITLE=America
 n Croatian Lodge:geo:41.662371,-81.440126
END:VEVENT
BEGIN:VTIMEZONE
TZID:America/New_York
X-LIC-LOCATION:America/New_York
BEGIN:DAYLIGHT
DTSTART:20240310T030000
TZOFFSETFROM:-0500
TZOFFSETTO:-0400
TZNAME:EDT
END:DAYLIGHT
END:VTIMEZONE
END:VCALENDAR